BEGIN:VCALENDAR
VERSION:2.0
PRODID:-//RIGHTHERE//CALENDARIZE IT V3.2//EN
BEGIN:VEVENT
UID:11715-events@www.omnisend.com
DTSTART;VALUE=DATE:20240901
DTEND;VALUE=DATE:20240901
DTSTAMP:20241031T121220Z
SUMMARY:World Candle Month
RRULE:FREQ=YEARLY;INTERVAL=1
URL:https://www.omnisend.com/events/world-candle-month/
END:VEVENT
END:VCALENDAR